Workbook
Name ___LPB1: [1]부하계산서!#REF!
Name ___LPB1: [1]부하계산서!#REF!
Name ___LPK1: [1]부하계산서!#REF!
Name ___LPK1: [1]부하계산서!#REF!
Name ___LU1: '[2]부하(성남)'!#REF!
Name ___LU1: '[2]부하(성남)'!#REF!
Name ___LU2: '[2]부하(성남)'!#REF!
Name ___LU2: '[2]부하(성남)'!#REF!
Name ___LV01: '[2]부하(성남)'!#REF!
Name ___LV01: '[2]부하(성남)'!#REF!
Name ___UP1: [1]부하계산서!#REF!
Name ___UP1: [1]부하계산서!#REF!
Name ___UP2: [1]부하계산서!#REF!
Name ___UP2: [1]부하계산서!#REF!
Name __LP2: #REF!
Name __LP2: #REF!
Name __LPB1: [1]부하계산서!#REF!
Name __LPB1: [1]부하계산서!#REF!
Name __LPK1: [1]부하계산서!#REF!
Name __LPK1: [1]부하계산서!#REF!
Name __LU1: '[2]부하(성남)'!#REF!
Name __LU1: '[2]부하(성남)'!#REF!
Name __LU2: '[2]부하(성남)'!#REF!
Name __LU2: '[2]부하(성남)'!#REF!
Name __LV01: '[2]부하(성남)'!#REF!
Name __LV01: '[2]부하(성남)'!#REF!
Name __UP1: [1]부하계산서!#REF!
Name __UP1: [1]부하계산서!#REF!
Name __UP2: [1]부하계산서!#REF!
Name __UP2: [1]부하계산서!#REF!
Name _1: #REF!
Name _1._PANEL_BD.__LP___1: #REF!
Name _1._PANEL_BD.__LP___1: #REF!
Name _1월: #REF!
Name _1월: #REF!
Name _2._날_개_벽: #REF!
Name _2._날_개_벽: #REF!
Name _2월: #REF!
Name _2월: #REF!
Name _3월: #REF!
Name _3월: #REF!
Name _4월: #REF!
Name _4월: #REF!
Name _50억이상: [3]단위수량!#REF!
Name _50억이상: [3]단위수량!#REF!
Name _5억원미만: [3]단위수량!#REF!
Name _5억원미만: [3]단위수량!#REF!
Name _5억이상_50억원미만: [3]단위수량!#REF!
Name _5억이상_50억원미만: [3]단위수량!#REF!
Name _5월: #REF!
Name _5월: #REF!
Name _6월: #REF!
Name _6월: #REF!
Name _CDT2: #REF!
Name _CDT2: #REF!
Name _JJ21: [5]중기일위대가!$J$25
Name _JK21: [5]중기일위대가!$K$25
Name _JN21: [5]중기일위대가!$I$25
Name _LP1: #REF!
Name _LP1: #REF!

Sheet 원가계산서
A1: 공 사 원 가 계 산 서
A2: 공학4호관 미래모빌리티 AI 융합 실습실 환경개선 기계설비공사
D3: 금 액 | E3: 요 율 | F3: 구 성 비 | G3: 비 고
A4: 순 공 사 비 | B4: 재료비 | C4: 직접재료비 | D4: =집계표!E24 -> 0
C5: 간접재료비
C6: 작업부산물(△)
C7: 소 계 | D7: =D4 -> 0
B8: 노무비 | C8: 직접노무비 | D8: =집계표!G24 -> 0
C9: 간접노무비 | D9: =INT(D8*E9) -> 0 | E9: 0.15 | F9: =IF(E9>0," 직접노무비 × "&E9," ") -> 직접노무비 × 0.15
C10: 소 계 | D10: =INT(D8+D9) -> 0
B11: 경 비 | C11: 기계경비 | D11: =집계표!I24 -> 0
C12: 산재보험료 | D12: =INT(D10*E12) -> 0 | E12: 0.0356 | F12: =IF(E12>0," 노무비 × "&E12," ") -> 노무비 × 0.0356
C13: 고용보험료 | D13: =INT(D10*E13) -> 0 | E13: 0.0101 | F13: =IF(E13>0," 노무비 × "&E13," ") -> 노무비 × 0.0101
C14: 건강보험료 | E14: 0.03545 | F14: =IF(E14>0," 직접노무비 × "&E14," ") -> 직접노무비 × 0.03545 | G14: 1개월 이상
C15: 연금보험료 | E15: 0.045 | F15: =IF(E15>0," 직접노무비 × "&E15," ") -> 직접노무비 × 0.045 | G15: 1개월 이상
C16: 노인장기요양보험료 | E16: 0.1295 | F16: =IF(E16>0," 건강보험료 × "&E16," ") -> 건강보험료 × 0.1295 | G16: 1개월 이상
C17: 퇴직공제부금비 | E17: 0.023 | F17: =IF(E17>0," 직접노무비 × "&E17," ") -> 직접노무비 × 0.023
C18: 산업안전보건관리비 | D18: 242880 | E18: 0.0311 | F18: =IF(E18>0," (재료비 + 직접노무비) × "&E18," ") -> (재료비 + 직접노무비) × 0.0311 | G18: 5억 미만
C19: 환경보전비 | D19: =INT((D7+D8+D11)*E19) -> 0 | E19: 0.003 | F19: =IF(E19>0," (재료비 + 직접노무비 + 기계경비) × "&E19," ") -> (재료비 + 직접노무비 + 기계경비) × 0.003
C20: 기타경비 | D20: =INT((D7+D10)*E20) -> 0 | E20: 0.046 | F20: =IF(E20>0," (재료비 + 노무비) × "&E20," ") -> (재료비 + 노무비) × 0.046
C21: 소 계 | D21: =INT(SUM(D11:D20)) -> 242880
A22: 합 계 | D22: =INT(D7+D10+D21) -> 242880
A23: 일반관리비 | D23: =INT(D22*E23) -> 19430 | E23: 0.08 | F23: =IF(E23>0," 합 계 × "&E23," ") -> 합 계 × 0.08
A24: 이 윤 | D24: =INT((D10+D21+D23)*E24)-42882/1.1 -> 362.36364 | E24: 0.15 | F24: =IF(E24>0," (노무비 + 경비 + 일반관리비) × "&E24," ") -> (노무비 + 경비 + 일반관리비) × 0.15
A25: 총 원 가 | D25: =INT(D22+D23+D24) -> 262672
A26: 부가가치세 | D26: =INT(D25*E26) -> 26267 | E26: 0.1 | F26: =" 총 원 가 × "&E26 -> 총 원 가 × 0.1
A27: 총 공 사 비 | D27: =INT(D25+D26) -> 288939

Sheet 집계표
A1: 집 계 표
A2: =원가계산서!A2 -> 공학4호관 미래모빌리티 AI 융합 실습실 환경개선 기계설비공사
A3: 품 명 | B3: 단위 | C3: 수량 | D3: 재 료 비 | F3: 노 무 비 | H3: 경 비 | J3: 합 계 | L3: 비 고
D4: 단 가 | E4: 금 액 | F4: 단 가 | G4: 금 액 | H4: 단 가 | I4: 금 액 | J4: 단 가 | K4: 금 액
A5: =설비내역서!A5 -> 1. 4521호, 4521-1호 기계설비공사 | E5: =설비내역서!F31+설비내역서!F58 -> 0 | G5: =설비내역서!H31+설비내역서!H58 -> 0 | I5: =설비내역서!J31+설비내역서!J58 -> 0 | K5: =E5+G5+I5 -> 0
A6: =설비내역서!A59 -> 2. 4519호 기계설비공사 | E6: =설비내역서!F85+설비내역서!F112 -> 0 | G6: =설비내역서!H85+설비내역서!H112 -> 0 | I6: =설비내역서!J85+설비내역서!J112 -> 0 | K6: =E6+G6+I6 -> 0
A24: 합 계 | E24: =SUM(E5:E6) -> 0 | G24: =SUM(G5:G6) -> 0 | I24: =SUM(I5:I6) -> 0 | K24: =SUM(K5:K6) -> 0

Sheet 설비내역서
A1: 내 역 서
A2: =원가계산서!A2 -> 공학4호관 미래모빌리티 AI 융합 실습실 환경개선 기계설비공사
A3: 품 명 | B3: 규 격 | C3: 단위 | D3: 수량 | E3: 재 료 비 | G3: 노 무 비 | I3: 경 비 | K3: 합 계 | M3: 비 고
E4: 단 가 | F4: 금 액 | G4: 단 가 | H4: 금 액 | I4: 단 가 | J4: 금 액 | K4: 단 가 | L4: 금 액
A5: 1. 4521호, 4521-1호 기계설비공사
A6: 가. GHP 냉난방기 교체
A7: 1) 재료비
A8: 실내기 | B8: YZCP56NA | C8: EA | D8: 6 | F8: =INT(D8*E8) -> 0 | H8: =INT(D8*G8) -> 0 | J8: =INT(I8*D8) -> 0 | K8: =E8+G8+I8 -> 0 | L8: =F8+H8+J8 -> 0
A9: 판넬 | B9: PCP160EAF | C9: EA | D9: 6 | F9: =INT(D9*E9) -> 0 | H9: =INT(D9*G9) -> 0 | J9: =INT(I9*D9) -> 0 | K9: =E9+G9+I9 -> 0 | L9: =F9+H9+J9 -> 0
A10: 리모컨 | B10: LC1G3 | C10: EA | D10: 1 | F10: =INT(D10*E10) -> 0 | H10: =INT(D10*G10) -> 0 | J10: =INT(I10*D10) -> 0 | K10: =E10+G10+I10 -> 0 | L10: =F10+H10+J10 -> 0
A11: 동관(롤관) | B11: Φ12.70 | C11: M | D11: 18 | F11: =INT(D11*E11) -> 0 | H11: =INT(D11*G11) -> 0 | J11: =INT(I11*D11) -> 0 | K11: =E11+G11+I11 -> 0 | L11: =F11+H11+J11 -> 0
A12: 동관(롤관) | B12: Φ6.35 | C12: M | D12: 18 | F12: =INT(D12*E12) -> 0 | H12: =INT(D12*G12) -> 0 | J12: =INT(I12*D12) -> 0 | K12: =E12+G12+I12 -> 0 | L12: =F12+H12+J12 -> 0
A13: 고무발포보온재 | B13: Φ12.70 | C13: M | D13: 18 | F13: =INT(D13*E13) -> 0 | H13: =INT(D13*G13) -> 0 | J13: =INT(I13*D13) -> 0 | K13: =E13+G13+I13 -> 0 | L13: =F13+H13+J13 -> 0
A14: 고무발포보온재 | B14: Φ6.35 | C14: M | D14: 18 | F14: =INT(D14*E14) -> 0 | H14: =INT(D14*G14) -> 0 | J14: =INT(I14*D14) -> 0 | K14: =E14+G14+I14 -> 0 | L14: =F14+H14+J14 -> 0
A15: 관부속 | B15: 동관의 30% | C15: 식 | D15: 1 | E15: =SUM(F11:F14)*0.03 -> 0 | F15: =INT(D15*E15) -> 0 | H15: =INT(D15*G15) -> 0 | J15: =INT(I15*D15) -> 0 | K15: =E15+G15+I15 -> 0 | L15: =F15+H15+J15 -> 0
A16: 유연호스 | C16: EA | D16: 6 | F16: =INT(D16*E16) -> 0 | H16: =INT(D16*G16) -> 0 | J16: =INT(I16*D16) -> 0 | K16: =E16+G16+I16 -> 0 | L16: =F16+H16+J16 -> 0
A17: 드레인배관(PVC) | B17: Φ25 | C17: M | D17: 12 | F17: =INT(D17*E17) -> 0 | H17: =INT(D17*G17) -> 0 | J17: =INT(I17*D17) -> 0 | K17: =E17+G17+I17 -> 0 | L17: =F17+H17+J17 -> 0
A18: 드레인배관 보온재 | B18: Φ25*10T | C18: M | D18: 12 | F18: =INT(D18*E18) -> 0 | H18: =INT(D18*G18) -> 0 | J18: =INT(I18*D18) -> 0 | K18: =E18+G18+I18 -> 0 | L18: =F18+H18+J18 -> 0
A19: 관용지지물 | B19: 관, 부속 등의 30% | C19: 식 | D19: 1 | F19: =INT(D19*E19) -> 0 | H19: =INT(D19*G19) -> 0 | J19: =INT(I19*D19) -> 0 | K19: =E19+G19+I19 -> 0 | L19: =F19+H19+J19 -> 0
A20: 전원선 | B20: 2.5SQ*3C | C20: M | D20: 18 | F20: =INT(D20*E20) -> 0 | H20: =INT(D20*G20) -> 0 | J20: =INT(I20*D20) -> 0 | K20: =E20+G20+I20 -> 0 | L20: =F20+H20+J20 -> 0
A21: 통신선 | B21: VCTF1.5SQ*2C | C21: M | D21: 18 | F21: =INT(D21*E21) -> 0 | H21: =INT(D21*G21) -> 0 | J21: =INT(I21*D21) -> 0 | K21: =E21+G21+I21 -> 0 | L21: =F21+H21+J21 -> 0
A22: 리모컨선 | B22: VCTF0.75SQ*2C | C22: M | D22: 30 | F22: =INT(D22*E22) -> 0 | H22: =INT(D22*G22) -> 0 | J22: =INT(I22*D22) -> 0 | K22: =E22+G22+I22 -> 0 | L22: =F22+H22+J22 -> 0
A23: 냉매 | B23: R410 | C23: KG | D23: 10 | F23: =INT(D23*E23) -> 0 | H23: =INT(D23*G23) -> 0 | J23: =INT(I23*D23) -> 0 | K23: =E23+G23+I23 -> 0 | L23: =F23+H23+J23 -> 0
A24: 잡재료비 | B24: 재료비의 3% | C24: 식 | D24: 1 | E24: =SUM(F8:F23)*0.03 -> 0 | F24: =INT(D24*E24) -> 0 | H24: =INT(D24*G24) -> 0 | J24: =INT(I24*D24) -> 0 | K24: =E24+G24+I24 -> 0 | L24: =F24+H24+J24 -> 0
A25: 소 계 | F25: =SUM(F8:F24) -> 0 | H25: =SUM(H8:H24) -> 0 | J25: =SUM(J8:J24) -> 0 | L25: =F25+H25+J25 -> 0
K28: =E28+G28+I28 -> 0 | L28: =F28+H28+J28 -> 0
K29: =E29+G29+I29 -> 0 | L29: =F29+H29+J29 -> 0
K30: =E30+G30+I30 -> 0 | L30: =F30+H30+J30 -> 0
A31: 계 | F31: =F25 -> 0 | H31: =H25 -> 0 | J31: =J25 -> 0 | L31: =F31+H31+J31 -> 0
A32: 2) 노무비
A33: 인건비 | B33: 기계설비공 | C33: 인 | D33: 6 | F33: =INT(D33*E33) -> 0 | H33: =INT(D33*G33) -> 0 | J33: =INT(D33*I33) -> 0 | K33: =E33+G33+I33 -> 0 | L33: =F33+H33+J33 -> 0
A34: 인건비 | B34: 보온공 | C34: 인 | D34: 3 | F34: =INT(D34*E34) -> 0 | H34: =INT(D34*G34) -> 0 | J34: =INT(D34*I34) -> 0 | K34: =E34+G34+I34 -> 0 | L34: =F34+H34+J34 -> 0
A35: 인건비 | B35: 용접공 | C35: 인 | D35: 2 | F35: =INT(D35*E35) -> 0 | H35: =INT(D35*G35) -> 0 | J35: =INT(D35*I35) -> 0 | K35: =E35+G35+I35 -> 0 | L35: =F35+H35+J35 -> 0
A36: 인건비 | B36: 보통인부 | C36: 인 | D36: 2 | F36: =INT(D36*E36) -> 0 | H36: =INT(D36*G36) -> 0 | J36: =INT(D36*I36) -> 0 | K36: =E36+G36+I36 -> 0 | L36: =F36+H36+J36 -> 0
A37: 인건비 | B37: 자동제어 수정 | C37: 인 | D37: 1 | F37: =INT(D37*E37) -> 0 | H37: =INT(D37*G37) -> 0 | J37: =INT(D37*I37) -> 0 | K37: =E37+G37+I37 -> 0 | L37: =F37+H37+J37 -> 0
A38: 공구손료 | B38: 인건비의 3% | C38: 식 | D38: 1 | F38: =INT(D38*E38) -> 0 | G38: =SUM(H33:H37)*0.03 -> 0 | H38: =INT(D38*G38) -> 0 | J38: =INT(D38*I38) -> 0 | K38: =E38+G38+I38 -> 0 | L38: =F38+H38+J38 -> 0
A39: 소 계 | F39: =SUM(F33:F38) -> 0 | H39: =SUM(H33:H38) -> 0 | J39: =SUM(J33:J38) -> 0 | K39: =E39+G39+I39 -> 0 | L39: =F39+H39+J39 -> 0
A41: 나. 배관공사
A42: 1) 자재비
A43: 마감용 캡 | B43: 15A | C43: EA | D43: 1 | F43: =INT(D43*E43) -> 0 | H43: =INT(D43*G43) -> 0 | J43: =INT(D43*I43) -> 0 | K43: =E43+G43+I43 -> 0 | L43: =F43+H43+J43 -> 0
A44: 배수배관 마감용 캡 | B44: 50A | C44: EA | D44: 1 | F44: =INT(D44*E44) -> 0 | K44: =E44+G44+I44 -> 0 | L44: =F44+H44+J44 -> 0
A45: 소 계 | F45: =SUM(F43:F44) -> 0 | K45: =E45+G45+I45 -> 0 | L45: =F45+H45+J45 -> 0
A47: 2) 노무비
A48: 인건비 | B48: 배관공 | C48: 인 | D48: 0.5 | F48: =INT(D48*E48) -> 0 | H48: =INT(D48*G48) -> 0 | J48: =INT(D48*I48) -> 0 | K48: =E48+G48+I48 -> 0 | L48: =F48+H48+J48 -> 0
A49: 공구손료 | B49: 인건비의 3% | C49: 식 | D49: 1 | G49: =SUM(H48)*3% -> 0 | H49: =INT(D49*G49) -> 0 | K49: =E49+G49+I49 -> 0 | L49: =F49+H49+J49 -> 0
A50: 소 계 | H50: =SUM(H48:H49) -> 0 | J50: =INT(D50*I50) -> 0 | K50: =E50+G50+I50 -> 0 | L50: =F50+H50+J50 -> 0
F51: =INT(D51*E51) -> 0 | H51: =INT(D51*G51) -> 0 | J51: =INT(D51*I51) -> 0 | K51: =E51+G51+I51 -> 0 | L51: =F51+H51+J51 -> 0
F52: =INT(D52*E52) -> 0 | H52: =INT(D52*G52) -> 0 | J52: =INT(D52*I52) -> 0 | K52: =E52+G52+I52 -> 0 | L52: =F52+H52+J52 -> 0
F53: =INT(D53*E53) -> 0 | H53: =INT(D53*G53) -> 0 | J53: =INT(D53*I53) -> 0 | K53: =E53+G53+I53 -> 0 | L53: =F53+H53+J53 -> 0
F54: =INT(D54*E54) -> 0 | H54: =INT(D54*G54) -> 0 | J54: =INT(D54*I54) -> 0 | K54: =E54+G54+I54 -> 0 | L54: =F54+H54+J54 -> 0
F55: =INT(D55*E55) -> 0 | H55: =INT(D55*G55) -> 0 | J55: =INT(D55*I55) -> 0 | K55: =E55+G55+I55 -> 0 | L55: =F55+H55+J55 -> 0
F56: =INT(D56*E56) -> 0 | H56: =D56*G56 -> 0 | J56: =INT(D56*I56) -> 0 | K56: =E56+G56+I56 -> 0 | L56: =F56+H56+J56 -> 0
F57: =INT(D57*E57) -> 0 | H57: =D57*G57 -> 0 | J57: =INT(D57*I57) -> 0 | K57: =E57+G57+I57 -> 0 | L57: =F57+H57+J57 -> 0
A58: 계 | F58: =F39+F45+F50 -> 0 | H58: =H39+H45+H50 -> 0 | J58: =J39+J50 -> 0 | L58: =F58+H58+J58 -> 0
A59: 2. 4519호 기계설비공사
A60: 가. GHP 냉난방기 교체
A61: 1) 자재비
A62: 실내기 | B62: YZCP90NA | C62: EA | D62: 2 | F62: =INT(D62*E62) -> 0 | H62: =INT(D62*G62) -> 0 | J62: =INT(D62*I62) -> 0 | K62: =E62+G62+I62 -> 0 | L62: =F62+H62+J62 -> 0
A63: 판넬 | B63: PCP160EAF | C63: EA | D63: 2 | F63: =INT(D63*E63) -> 0 | H63: =INT(D63*G63) -> 0 | J63: =INT(D63*I63) -> 0 | K63: =E63+G63+I63 -> 0 | L63: =F63+H63+J63 -> 0
A64: 유연호스 | C64: EA | D64: 2 | F64: =INT(D64*E64) -> 0 | H64: =INT(D64*G64) -> 0 | J64: =INT(D64*I64) -> 0 | K64: =E64+G64+I64 -> 0 | L64: =F64+H64+J64 -> 0
A65: 드레인배관(PVC) | B65: Φ25 | C65: M | D65: 3 | F65: =INT(D65*E65) -> 0 | H65: =INT(D65*G65) -> 0 | J65: =INT(D65*I65) -> 0 | K65: =E65+G65+I65 -> 0 | L65: =F65+H65+J65 -> 0
A66: 드레인배관 보온재 | B66: Φ25*10T | C66: M | D66: 3 | F66: =INT(D66*E66) -> 0 | H66: =INT(D66*G66) -> 0 | J66: =INT(D66*I66) -> 0 | K66: =E66+G66+I66 -> 0 | L66: =F66+H66+J66 -> 0
A67: 관용지지물 | B67: 관, 부속 등의 30% | C67: 식 | D67: 1 | E67: =SUM(F64:F66)*0.3 -> 0 | F67: =INT(D67*E67) -> 0 | H67: =INT(D67*G67) -> 0 | J67: =INT(D67*I67) -> 0 | K67: =E67+G67+I67 -> 0 | L67: =F67+H67+J67 -> 0
A68: 전원선 | B68: 2.5SQ*3C | C68: M | D68: 4 | F68: =INT(D68*E68) -> 0 | H68: =INT(D68*G68) -> 0 | J68: =INT(D68*I68) -> 0 | K68: =E68+G68+I68 -> 0 | L68: =F68+H68+J68 -> 0
A69: 통신선 | B69: VCTF1.5SQ*2C | C69: M | D69: 4 | F69: =INT(D69*E69) -> 0 | H69: =INT(D69*G69) -> 0 | J69: =INT(D69*I69) -> 0 | K69: =E69+G69+I69 -> 0 | L69: =F69+H69+J69 -> 0
A70: 리모컨선 | B70: VCTF0.75SQ*2C | C70: M | D70: 20 | F70: =INT(D70*E70) -> 0 | H70: =INT(D70*G70) -> 0 | J70: =INT(D70*I70) -> 0 | K70: =E70+G70+I70 -> 0 | L70: =F70+H70+J70 -> 0
A71: 냉매 | B71: R410 | C71: KG | D71: 10 | F71: =INT(D71*E71) -> 0 | H71: =INT(D71*G71) -> 0 | J71: =INT(D71*I71) -> 0 | K71: =E71+G71+I71 -> 0 | L71: =F71+H71+J71 -> 0
A72: 잡재료비 | B72: 재료비의 3% | C72: 식 | D72: 1 | E72: =SUM(F62:F71)*0.03 -> 0 | F72: =INT(D72*E72) -> 0 | H72: =INT(D72*G72) -> 0 | J72: =INT(D72*I72) -> 0 | K72: =E72+G72+I72 -> 0 | L72: =F72+H72+J72 -> 0
A73: 소 계 | F73: =SUM(F62:F72) -> 0 | H73: =SUM(H62:H72) -> 0 | J73: =SUM(J62:J72) -> 0 | L73: =F73+H73+J73 -> 0
A75: 2) 노무비
A76: 인건비 | B76: 기계설비공 | C76: 인 | D76: 2 | F76: =INT(D76*E76) -> 0 | H76: =INT(D76*G76) -> 0 | J76: =INT(D76*I76) -> 0 | K76: =E76+G76+I76 -> 0 | L76: =F76+H76+J76 -> 0
A77: 인건비 | B77: 용접공 | C77: 인 | D77: 1 | F77: =INT(D77*E77) -> 0 | H77: =INT(D77*G77) -> 0 | J77: =INT(D77*I77) -> 0 | K77: =E77+G77+I77 -> 0 | L77: =F77+H77+J77 -> 0
A78: 인건비 | B78: 보통인부 | C78: 인 | D78: 2 | F78: =INT(D78*E78) -> 0 | H78: =INT(D78*G78) -> 0 | J78: =INT(D78*I78) -> 0 | K78: =E78+G78+I78 -> 0 | L78: =F78+H78+J78 -> 0
A79: 공구손료 | B79: 인건비의 3% | C79: 식 | D79: 1 | F79: =INT(D79*E79) -> 0 | G79: =SUM(H76:H78)*0.03 -> 0 | H79: =INT(D79*G79) -> 0 | J79: =INT(D79*I79) -> 0 | K79: =E79+G79+I79 -> 0 | L79: =F79+H79+J79 -> 0
A80: 소 계 | F80: =SUM(F76:F79) -> 0 | H80: =SUM(H76:H79) -> 0 | J80: =SUM(J76:J79) -> 0 | K80: =E80+G80+I80 -> 0 | L80: =F80+H80+J80 -> 0
A85: 계 | F85: =F73+F80 -> 0 | H85: =H73+H80 -> 0 | J85: =J73+J80 -> 0 | K85: =E85+G85+I85 -> 0 | L85: =F85+H85+J85 -> 0
A86: 나. 싱크대 설치 및 배관공사
A87: 1) 자재비
A88: 싱크대 하부장 | B88: 1200*600*800 | C88: EA | D88: 1 | F88: =INT(D88*E88) -> 0 | H88: =INT(D88*G88) -> 0 | J88: =INT(D88*I88) -> 0 | K88: =E88+G88+I88 -> 0 | L88: =F88+H88+J88 -> 0 | M88: 상부장제외
A89: 급수배관 마감용 캡 | B89: 15A | C89: EA | D89: 1 | F89: =INT(D89*E89) -> 0 | H89: =INT(D89*G89) -> 0 | J89: =INT(D89*I89) -> 0 | K89: =E89+G89+I89 -> 0 | L89: =F89+H89+J89 -> 0
A90: 배수배관 마감용 캡 | B90: 50A | C90: EA | D90: 1 | F90: =INT(D90*E90) -> 0 | H90: =INT(D90*G90) -> 0 | J90: =INT(D90*I90) -> 0 | K90: =E90+G90+I90 -> 0 | L90: =F90+H90+J90 -> 0
A91: 소 계 | F91: =SUM(F88:F90) -> 0 | H91: =SUM(H88) -> 0 | J91: =SUM(J88) -> 0 | L91: =F91+H91+J91 -> 0
A93: 2) 노무비
A94: 인건비 | B94: 용접공 | C94: 인 | D94: 1 | F94: =INT(D94*E94) -> 0 | H94: =INT(D94*G94) -> 0 | J94: =SUM(J93) -> 0 | K94: =E94+G94+I94 -> 0 | L94: =F94+H94+J94 -> 0
A95: 인건비 | B95: 보통인부 | C95: 인 | D95: 1 | F95: =INT(D95*E95) -> 0 | H95: =INT(D95*G95) -> 0 | J95: =SUM(J94) -> 0 | K95: =E95+G95+I95 -> 0 | L95: =F95+H95+J95 -> 0
A96: 공구손료 | B96: 인건비의 3% | C96: 식 | D96: 1 | G96: =SUM(H94:H95)*3% -> 0 | H96: =INT(D96*G96) -> 0 | K96: =E96+G96+I96 -> 0 | L96: =F96+H96+J96 -> 0
A97: 소 계 | F97: =SUM(F94) -> 0 | H97: =SUM(H94:H96) -> 0 | J97: =SUM(J94) -> 0 | L97: =F97+H97+J97 -> 0
H98: =INT(D98*G98) -> 0
A112: 계 | F112: =F91+F97 -> 0 | H112: =H91+H97 -> 0 | J112: =J88+J97 -> 0 | K112: =E112+G112+I112 -> 0 | L112: =F112+H112+J112 -> 0
