Workbook
Name ___LPB1: [1]부하계산서!#REF!
Name ___LPB1: [1]부하계산서!#REF!
Name ___LPK1: [1]부하계산서!#REF!
Name ___LPK1: [1]부하계산서!#REF!
Name ___LU1: '[2]부하(성남)'!#REF!
Name ___LU1: '[2]부하(성남)'!#REF!
Name ___LU2: '[2]부하(성남)'!#REF!
Name ___LU2: '[2]부하(성남)'!#REF!
Name ___LV01: '[2]부하(성남)'!#REF!
Name ___LV01: '[2]부하(성남)'!#REF!
Name ___UP1: [1]부하계산서!#REF!
Name ___UP1: [1]부하계산서!#REF!
Name ___UP2: [1]부하계산서!#REF!
Name ___UP2: [1]부하계산서!#REF!
Name __LP2: #REF!
Name __LP2: #REF!
Name __LPB1: [1]부하계산서!#REF!
Name __LPB1: [1]부하계산서!#REF!
Name __LPK1: [1]부하계산서!#REF!
Name __LPK1: [1]부하계산서!#REF!
Name __LU1: '[2]부하(성남)'!#REF!
Name __LU1: '[2]부하(성남)'!#REF!
Name __LU2: '[2]부하(성남)'!#REF!
Name __LU2: '[2]부하(성남)'!#REF!
Name __LV01: '[2]부하(성남)'!#REF!
Name __LV01: '[2]부하(성남)'!#REF!
Name __UP1: [1]부하계산서!#REF!
Name __UP1: [1]부하계산서!#REF!
Name __UP2: [1]부하계산서!#REF!
Name __UP2: [1]부하계산서!#REF!
Name _1: #REF!
Name _1._PANEL_BD.__LP___1: #REF!
Name _1._PANEL_BD.__LP___1: #REF!
Name _1월: #REF!
Name _1월: #REF!
Name _2._날_개_벽: #REF!
Name _2._날_개_벽: #REF!
Name _2월: #REF!
Name _2월: #REF!
Name _3월: #REF!
Name _3월: #REF!
Name _4월: #REF!
Name _4월: #REF!
Name _50억이상: [3]단위수량!#REF!
Name _50억이상: [3]단위수량!#REF!
Name _5억원미만: [3]단위수량!#REF!
Name _5억원미만: [3]단위수량!#REF!
Name _5억이상_50억원미만: [3]단위수량!#REF!
Name _5억이상_50억원미만: [3]단위수량!#REF!
Name _5월: #REF!
Name _5월: #REF!
Name _6월: #REF!
Name _6월: #REF!
Name _CDT2: #REF!
Name _CDT2: #REF!
Name _JJ21: [5]중기일위대가!$J$25
Name _JK21: [5]중기일위대가!$K$25
Name _JN21: [5]중기일위대가!$I$25
Name _LP1: #REF!
Name _LP1: #REF!

Sheet 원가계산서
A1: 공 사 원 가 계 산 서
A2: 공학4호관 미래모빌리티 AI 융합 실습실 환경개선 기계설비공사
D3: 금 액 | E3: 요 율 | F3: 구 성 비 | G3: 비 고
A4: 순 공 사 비 | B4: 재료비 | C4: 직접재료비 | D4: =집계표!E24 -> 0
C5: 간접재료비
C6: 작업부산물(△)
C7: 소 계 | D7: =D4 -> 0
B8: 노무비 | C8: 직접노무비 | D8: =집계표!G24 -> 0
C9: 간접노무비 | D9: =INT(D8*E9) -> 0 | E9: 0.15 | F9: =IF(E9>0," 직접노무비 × "&E9," ") -> 직접노무비 × 0.15
C10: 소 계 | D10: =INT(D8+D9) -> 0
B11: 경 비 | C11: 기계경비 | D11: =집계표!I24 -> 0
C12: 산재보험료 | D12: =INT(D10*E12) -> 0 | E12: 0.0356 | F12: =IF(E12>0," 노무비 × "&E12," ") -> 노무비 × 0.0356
C13: 고용보험료 | D13: =INT(D10*E13) -> 0 | E13: 0.0101 | F13: =IF(E13>0," 노무비 × "&E13," ") -> 노무비 × 0.0101
C14: 건강보험료 | E14: 0.03545 | F14: =IF(E14>0," 직접노무비 × "&E14," ") -> 직접노무비 × 0.03545 | G14: 1개월 이상
C15: 연금보험료 | E15: 0.045 | F15: =IF(E15>0," 직접노무비 × "&E15," ") -> 직접노무비 × 0.045 | G15: 1개월 이상
C16: 노인장기요양보험료 | E16: 0.1295 | F16: =IF(E16>0," 건강보험료 × "&E16," ") -> 건강보험료 × 0.1295 | G16: 1개월 이상
C17: 퇴직공제부금비 | E17: 0.023 | F17: =IF(E17>0," 직접노무비 × "&E17," ") -> 직접노무비 × 0.023
C18: 산업안전보건관리비 | D18: 242880 | E18: 0.0311 | F18: =IF(E18>0," (재료비 + 직접노무비) × "&E18," ") -> (재료비 + 직접노무비) × 0.0311 | G18: 5억 미만
C19: 환경보전비 | D19: =INT((D7+D8+D11)*E19) -> 0 | E19: 0.003 | F19: =IF(E19>0," (재료비 + 직접노무비 + 기계경비) × "&E19," ") -> (재료비 + 직접노무비 + 기계경비) × 0.003
C20: 기타경비 | D20: =INT((D7+D10)*E20) -> 0 | E20: 0.046 | F20: =IF(E20>0," (재료비 + 노무비) × "&E20," ") -> (재료비 + 노무비) × 0.046
C21: 소 계 | D21: =INT(SUM(D11:D20)) -> 242880
A22: 합 계 | D22: =INT(D7+D10+D21) -> 242880
A23: 일반관리비 | D23: =INT(D22*E23) -> 19430 | E23: 0.08 | F23: =IF(E23>0," 합 계 × "&E23," ") -> 합 계 × 0.08
A24: 이 윤 | D24: =INT((D10+D21+D23)*E24)-42882/1.1 -> 362.36364 | E24: 0.15 | F24: =IF(E24>0," (노무비 + 경비 + 일반관리비) × "&E24," ") -> (노무비 + 경비 + 일반관리비) × 0.15
A25: 총 원 가 | D25: =INT(D22+D23+D24) -> 262672
A26: 부가가치세 | D26: =INT(D25*E26) -> 26267 | E26: 0.1 | F26: =" 총 원 가 × "&E26 -> 총 원 가 × 0.1
A27: 총 공 사 비 | D27: =INT(D25+D26) -> 288939

Sheet 집계표
A1: 집 계 표
A2: =원가계산서!A2 -> 공학4호관 미래모빌리티 AI 융합 실습실 환경개선 기계설비공사
A3: 품 명 | B3: 단위 | C3: 수량 | D3: 재 료 비 | F3: 노 무 비 | H3: 경 비 | J3: 합 계 | L3: 비 고
D4: 단 가 | E4: 금 액 | F4: 단 가 | G4: 금 액 | H4: 단 가 | I4: 금 액 | J4: 단 가 | K4: 금 액
A5: =설비내역서!A5 -> 1. 4521호, 4521-1호 기계설비공사 | E5: =설비내역서!F31+설비내역서!F58 -> 0 | G5: =설비내역서!H31+설비내역서!H58 -> 0 | I5: =설비내역서!J31+설비내역서!J58 -> 0 | K5: =E5+G5+I5 -> 0
A6: =설비내역서!A59 -> 2. 4519호 기계설비공사 | E6: =설비내역서!F85+설비내역서!F112 -> 0 | G6: =설비내역서!H85+설비내역서!H112 -> 0 | I6: =설비내역서!J85+설비내역서!J112 -> 0 | K6: =E6+G6+I6 -> 0
A24: 합 계 | E24: =SUM(E5:E6) -> 0 | G24: =SUM(G5:G6) -> 0 | I24: =SUM(I5:I6) -> 0 | K24: =SUM(K5:K6) -> 0

Sheet 설비내역서
A1: 내 역 서
A2: =원가계산서!A2 -> 공학4호관 미래모빌리티 AI 융합 실습실 환경개선 기계설비공사
A3: 품 명 | B3: 규 격 | C3: 단위 | D3: 수량 | E3: 재 료 비 | G3: 노 무 비 | I3: 경 비 | K3: 합 계 | M3: 비 고
E4: 단 가 | F4: 금 액 | G4: 단 가 | H4: 금 액 | I4: 단 가 | J4: 금 액 | K4: 단 가 | L4: 금 액
A5: 1. 4521호, 4521-1호 기계설비공사
A6: 가. GHP 냉난방기 교체
A7: 1) 재료비
A8: 실내기 | B8: YZCP56NA | C8: EA | D8: 6 | F8: =INT(D8*E8) -> 0 | H8: =INT(D8*G8) -> 0 | J8: =INT(I8*D8) -> 0 | K8: =E8+G8+I8 -> 0 | L8: =F8+H8+J8 -> 0
A9: 판넬 | B9: PCP160EAF | C9: EA | D9: 6 | F9: =INT(D9*E9) -> 0 | H9: =INT(D9*G9) -> 0 | J9: =INT(I9*D9) -> 0 | K9: =E9+G9+I9 -> 0 | L9: =F9+H9+J9 -> 0
A10: 리모컨 | B10: LC1G3 | C10: EA | D10: 1 | F10: =INT(D10*E10) -> 0 | H10: =INT(D10*G10) -> 0 | J10: =INT(I10*D10) -> 0 | K10: =E10+G10+I10 -> 0 | L10: =F10+H10+J10 -> 0
A11: 동관(롤관) | B11: Φ12.70 | C11: M | D11: 18 | F11: =INT(D11*E11) -> 0 | H11: =INT(D11*G11) -> 0 | J11: =INT(I11*D11) -> 0 | K11: =E11+G11+I11 -> 0 | L11: =F11+H11+J11 -> 0
A12: 동관(롤관) | B12: Φ6.35 | C12: M | D12: 18 | F12: =INT(D12*E12) -> 0 | H12: =INT(D12*G12) -> 0 | J12: =INT(I12*D12) -> 0 | K12: =E12+G12+I12 -> 0 | L12: =F12+H12+J12 -> 0
A13: 고무발포보온재 | B13: Φ12.70 | C13: M | D13: 18 | F13: =INT(D13*E13) -> 0 | H13: =INT(D13*G13) -> 0 | J13: =INT(I13*D13) -> 0 | K13: =E13+G13+I13 -> 0 | L13: =F13+H13+J13 -> 0
A14: 고무발포보온재 | B14: Φ6.35 | C14: M | D14: 18 | F14: =INT(D14*E14) -> 0 | H14: =INT(D14*G14) -> 0 | J14: =INT(I14*D14) -> 0 | K14: =E14+G14+I14 -> 0 | L14: =F14+H14+J14 -> 0
A15: 관부속 | B15: 동관의 30% | C15: 식 | D15: 1 | E15: =SUM(F11:F14)*0.03 -> 0 | F15: =INT(D15*E15) -> 0 | H15: =INT(D15*G15) -> 0 | J15: =INT(I15*D15) -> 0 | K15: =E15+G15+I15 -> 0 | L15: =F15+H15+J15 -> 0
A16: 유연호스 | C16: EA | D16: 6 | F16: =INT(D16*E16) -> 0 | H16: =INT(D16*G16) -> 0 | J16: =INT(I16*D16) -> 0 | K16: =E16+G16+I16 -> 0 | L16: =F16+H16+J16 -> 0
A17: 드레인배관(PVC) | B17: Φ25 | C17: M | D17: 12 | F17: =INT(D17*E17) -> 0 | H17: =INT(D17*G17) -> 0 | J17: =INT(I17*D17) -> 0 | K17: =E17+G17+I17 -> 0 | L17: =F17+H17+J17 -> 0
A18: 드레인배관 보온재 | B18: Φ25*10T | C18: M | D18: 12 | F18: =INT(D18*E18) -> 0 | H18: =INT(D18*G18) -> 0 | J18: =INT(I18*D18) -> 0 | K18: =E18+G18+I18 -> 0 | L18: =F18+H18+J18 -> 0
A19: 관용지지물 | B19: 관, 부속 등의 30% | C19: 식 | D19: 1 | F19: =INT(D19*E19) -> 0 | H19: =INT(D19*G19) -> 0 | J19: =INT(I19*D19) -> 0 | K19: =E19+G19+I19 -> 0 | L19: =F19+H19+J19 -> 0
A20: 전원선 | B20: 2.5SQ*3C | C20: M | D20: 18 | F20: =INT(D20*E20) -> 0 | H20: =INT(D20*G20) -> 0 | J20: =INT(I20*D20) -> 0 | K20: =E20+G20+I20 -> 0 | L20: =F20+H20+J20 -> 0
A21: 통신선 | B21: VCTF1.5SQ*2C | C21: M | D21: 18 | F21: =INT(D21*E21) -> 0 | H21: =INT(D21*G21) -> 0 | J21: =INT(I21*D21) -> 0 | K21: =E21+G21+I21 -> 0 | L21: =F21+H21+J21 -> 0
A22: 리모컨선 | B22: VCTF0.75SQ*2C | C22: M | D22: 30 | F22: =INT(D22*E22) -> 0 | H22: =INT(D22*G22) -> 0 | J22: =INT(I22*D22) -> 0 | K22: =E22+G22+I22 -> 0 | L22: =F22+H22+J22 -> 0
A23: 냉매 | B23: R410 | C23: KG | D23: 10 | F23: =INT(D23*E23) -> 0 | H23: =INT(D23*G23) -> 0 | J23: =INT(I23*D23) -> 0 | K23: =E23+G23+I23 -> 0 | L23: =F23+H23+J23 -> 0
A24: 잡재료비 | B24: 재료비의 3% | C24: 식 | D24: 1 | E24: =SUM(F8:F23)*0.03 -> 0 | F24: =INT(D24*E24) -> 0 | H24: =INT(D24*G24) -> 0 | J24: =INT(I24*D24) -> 0 | K24: =E24+G24+I24 -> 0 | L24: =F24+H24+J24 -> 0
A25: 소 계 | F25: =SUM(F8:F24) -> 0 | H25: =SUM(H8:H24) -> 0 | J25: =SUM(J8:J24) -> 0 | L25: =F25+H25+J25 -> 0
K28: =E28+G28+I28 -> 0 | L28: =F28+H28+J28 -> 0
K29: =E29+G29+I29 -> 0 | L29: =F29+H29+J29 -> 0
K30: =E30+G30+I30 -> 0 | L30: =F30+H30+J30 -> 0
A31: 계 | F31: =F25 -> 0 | H31: =H25 -> 0 | J31: =J25 -> 0 | L31: =F31+H31+J31 -> 0
A32: 2) 노무비
A33: 인건비 | B33: 기계설비공 | C33: 인 | D33: 6 | F33: =INT(D33*E33) -> 0 | H33: =INT(D33*G33) -> 0 | J33: =INT(D33*I33) -> 0 | K33: =E33+G33+I33 -> 0 | L33: =F33+H33+J33 -> 0
A34: 인건비 | B34: 보온공 | C34: 인 | D34: 3 | F34: =INT(D34*E34) -> 0 | H34: =INT(D34*G34) -> 0 | J34: =INT(D34*I34) -> 0 | K34: =E34+G34+I34 -> 0 | L34: =F34+H34+J34 -> 0
A35: 인건비 | B35: 용접공 | C35: 인 | D35: 2 | F35: =INT(D35*E35) -> 0 | H35: =INT(D35*G35) -> 0 | J35: =INT(D35*I35) -> 0 | K35: =E35+G35+I35 -> 0 | L35: =F35+H35+J35 -> 0
A36: 인건비 | B36: 보통인부 | C36: 인 | D36: 2 | F36: =INT(D36*E36) -> 0 | H36: =INT(D36*G36) -> 0 | J36: =INT(D36*I36) -> 0 | K36: =E36+G36+I36 -> 0 | L36: =F36+H36+J36 -> 0
A37: 인건비 | B37: 자동제어 수정 | C37: 인 | D37: 1 | F37: =INT(D37*E37) -> 0 | H37: =INT(D37*G37) -> 0 | J37: =INT(D37*I37) -> 0 | K37: =E37+G37+I37 -> 0 | L37: =F37+H37+J37 -> 0
A38: 공구손료 | B38: 인건비의 3% | C38: 식 | D38: 1 | F38: =INT(D38*E38) -> 0 | G38: =SUM(H33:H37)*0.03 -> 0 | H38: =INT(D38*G38) -> 0 | J38: =INT(D38*I38) -> 0 | K38: =E38+G38+I38 -> 0 | L38: =F38+H38+J38 -> 0
A39: 소 계 | F39: =SUM(F33:F38) -> 0 | H39: =SUM(H33:H38) -> 0 | J39: =SUM(J33:J38) -> 0 | K39: =E39+G39+I39 -> 0 | L39: =F39+H39+J39 -> 0
A41: 나. 배관공사
A42: 1) 자재비
A43: 마감용 캡 | B43: 15A | C43: EA | D43: 1 | F43: =INT(D43*E43) -> 0 | H43: =INT(D43*G43) -> 0 | J43: =INT(D43*I43) -> 0 | K43: =E43+G43+I43 -> 0 | L43: =F43+H43+J43 -> 0
...
